Workbook
Name _Hlk113442285: Instrucciones!#REF!
Name _Hlk113442285: 'Modelo de oferta económica'!#REF!
Name _Hlk119490985: Instrucciones!#REF!
Name _Hlk119490985: 'Modelo de oferta económica'!#REF!
Name _Hlk119568242: Instrucciones!#REF!
Name _Hlk119568242: 'Modelo de oferta económica'!#REF!
Name _Hlk119914996: Instrucciones!#REF!
Name _Hlk119914996: 'Modelo de oferta económica'!#REF!
Name _Toc125653035: Instrucciones!#REF!
Name _Toc125653035: 'Modelo de oferta económica'!#REF!
Name _Toc125653036: Instrucciones!#REF!
Name _Toc125653036: 'Modelo de oferta económica'!#REF!
Name _Toc125653037: Instrucciones!#REF!
Name _Toc125653037: 'Modelo de oferta económica'!#REF!
Name _Toc125653038: Instrucciones!#REF!
Name _Toc125653038: 'Modelo de oferta económica'!#REF!
Name _Toc125653039: Instrucciones!#REF!
Name _Toc125653039: 'Modelo de oferta económica'!#REF!
Name _Toc125653040: Instrucciones!#REF!
Name _Toc125653040: 'Modelo de oferta económica'!#REF!
Name _Toc125653041: Instrucciones!#REF!
Name _Toc125653041: 'Modelo de oferta económica'!#REF!
Name _Toc125653042: Instrucciones!#REF!
Name _Toc125653042: 'Modelo de oferta económica'!#REF!
Name _Toc125653043: Instrucciones!#REF!
Name _Toc125653043: 'Modelo de oferta económica'!#REF!
Name _Toc125653044: Instrucciones!#REF!
Name _Toc125653044: 'Modelo de oferta económica'!#REF!
Name _Toc125653045: Instrucciones!#REF!
Name _Toc125653045: 'Modelo de oferta económica'!#REF!
Name _Toc125653046: Instrucciones!#REF!
Name _Toc125653046: 'Modelo de oferta económica'!#REF!
Name _Toc125653047: Instrucciones!#REF!
Name _Toc125653047: 'Modelo de oferta económica'!#REF!
Name _Toc125653048: Instrucciones!#REF!
Name _Toc125653048: 'Modelo de oferta económica'!#REF!
Name _Toc125653049: Instrucciones!#REF!
Name _Toc125653049: 'Modelo de oferta económica'!#REF!
Name _Toc125653050: Instrucciones!#REF!
Name _Toc125653050: 'Modelo de oferta económica'!#REF!
Name _Toc125653051: Instrucciones!#REF!
Name _Toc125653051: 'Modelo de oferta económica'!$B$17

Sheet Instrucciones
B6: Instrucciones para cumplimentar el archivo Excel de presentación de oferta económica
B8: -El archivo se compone de esta pestaña de instrucciones, y de la pestaña "Modelo de oferta económica" que contiene el resumen del importe total ofertado, el resumen por capítulo y el detalle de cada capítulo con los precios unitarios y las partidas alzadas.
B9: -El licitador solo rellenará las celdas en naranja de la pestaña "Modelo de oferta Económica", que se corresponden con el importe ofertado de cada precio unitario y partida alzada de cada una de las partidas. El archivo calcula automaticamente el importe total.
B10: -La hoja deberá incluir en cada celda naranja un único importe y el archivo automaticamente redondeará a dos decimales.
B11: -El importe de cada precio unitario y partida alzada debe incluir la parte correspondiente de gastos generales y el beneficio industrial. Los importes NO deben incluir el IVA.
B12: -Se deberán cumplimentar todos los precios unitarios y las partidas alzadas de todos los capítulos. NO SON ADMISIBLES las ofertas que NO estén completas.
B13: -En cada capítulo el archivo trae de origen las mediciones de cada partida y calculará de forma automática los importes totales por partida, al introducir el licitador los importes de cada precio unitario y partida alzada.
B14: -El archivo calcula de forma automática el precio ofertado por el licitador, en base los importes introducidos, sumando a su vez las partidas de cada capítulo.
B15: -A modo de alerta, en la columna "E" de la pestaña "Modelo de oferta económica" aparecerá una leyenda en color rojo en las filas en las que exista algún error de cumplimentación, en los casos siguinetes:
B16: •Dentro de cada capítulo, cuando el archivo detecta la ausencia de algún importe de precio unitario o partida alzada, en la columna "E" se visualizará la leyenda "Es necesario completar el precio de esta partida, introduciendo un importe en la celda en naranja"
B17: •En el resumen general, cuando el archivo detecta la ausencia de algún importe de precio unitario o partida alzada, se podrá visualizar en la columna "E" la leyenda "En este capítulo hay alguna partida con precio unitario o partida alzada sin rellenar"
B18: •En la última línea del resumen general, cuando el archivo detecta que la oferta final supera el valor del presupuesto máximo de licitación se visualizará la leyenda "El precio ofertado supera el Presupuesto Máximo de Licitación, oferta NO ADMISIBLE"
B20: Una vez completado el archivo el licitador deberá convertir a formato PDF todas las hojas de la pestaña "Modelo de oferta económica", firmar electrónicamente el documento e incorporarlo al Archivo electrónico C de su proposición, junto con el archivo en formato Excel y el resto de documentos incluidos en el anexo al PCA. En caso de no coincidencia entre lo indicado en el archivo Excel y el archivo PDF, primará el documento PDF firmado electronicamente.

Sheet Modelo de oferta económica
B2: ANEXO 5
B4: MODELO DE OFERTA ECONÓMICA
B6: D/Dª ................................. con domicilio en.………………..........................…., enterado de la convocatoria de procedimiento de licitación para la contratación de las obras del Proyecto de restauración de la zona este de la C.N. José Cabrera, expediente nº CO-TA-24-011 y de las condiciones que regirán en el mismo y conforme con su contenido, se compromete en nombre …….. (propio o de la empresa)………, con N.I.F…….., según poder……. (se hará constar apoderamiento) a la ejecución del contrato con sujeción a las condiciones y requisitos exigidos y con las condiciones técnicas indicadas en la oferta presentada, por el importe siguiente:
B15: PROYECTO DE RESTAURACIÓN DE LA ZONA ESTE DE LA C.N. JOSÉ CABRERA | F15: Precio Máximo de Licitación IVA EXCLUIDO
B17: TOTAL PROYECTO | E17: Importe (€)
B18: TOTAL CAPÍTULO 1 - ACTIVIDADES PREVIAS Y AUXILIARES | E18: =IF(I18="En este capítulo hay alguna partida con precio unitario o partida alzada sin rellenar","Sin importe por errores",+'Modelo de oferta económica'!H52) -> 0
B19: TOTAL CAPÍTULO 2 - MOVIMIENTO DE TIERRAS | E19: =IF(I19="En este capítulo hay alguna partida con precio unitario o partida alzada sin rellenar","Sin importe por errores",+'Modelo de oferta económica'!H74) -> 0
B20: TOTAL CAPÍTULO 3 - DEMOLICIONES | E20: =IF(I20="En este capítulo hay alguna partida con precio unitario o partida alzada sin rellenar","Sin importe por errores",+'Modelo de oferta económica'!H92) -> 0
B21: TOTAL CAPÍTULO 4 - GESTIÓN DE RESIDUOS DE CONSTRUCCIÓN | E21: =IF(I21="En este capítulo hay alguna partida con precio unitario o partida alzada sin rellenar","Sin importe por errores",+'Modelo de oferta económica'!H115) -> 0
B22: TOTAL CAPÍTULO 5 - SUMINISTRO DE CONTENEDORES MATERIAL DESCLASIF. | E22: =IF(I22="En este capítulo hay alguna partida con precio unitario o partida alzada sin rellenar","Sin importe por errores",+'Modelo de oferta económica'!H157) -> 0
B23: TOTAL CAPÍTULO 6 - SEGURIDAD Y SALUD | E23: =IF(I23="En este capítulo hay alguna partida con precio unitario o partida alzada sin rellenar","Sin importe por errores",+'Modelo de oferta económica'!H163) -> 0
B24: TOTAL PRECIO OFERTADO (IVA Excluido) | E24: =SUM(E18:E23) -> 0 | F24: 1168663.9
B26: ¿Tiene previsto subcontratar? | F26: SÍ* | G26: NO
B28: *En caso afirmativo, indicar el importe y alcance de la/s partida/s subcontratada/s, así como la denominación social o perfil empresarial de la/s empresa/s subcontratista/s:
B29: Actuación/Actividad a subcontratar | E29: Importe a subcontratar | F29: Empresa subcontratista
B52: CAPÍTULO 1 | D52: ACTIVIDADES PREVIAS Y AUXILIARES | H52: =SUM(H55,H59,H63,H67,H71) -> 0 | I52: =COUNTIF(I55:I73,"Es necesario completar el precio de esta partida, introduciendo un valor en la celda en naranja") -> 5
B54: Partida | F54: Precio Unitario | G54: Medición | H54: Importe | J54: =ROUND('Modelo de oferta económica'!F55,2) -> 0
B55: 001 | C55: PA | D55: Mediciones, análisis y documentacion | G55: 1 | H55: =ROUND('Modelo de oferta económica'!J54*G55,2) -> 0 | I55: =IF(ISBLANK('Modelo de oferta económica'!F55),"Es necesario completar el precio de esta partida, introduciendo un valor en la celda en naranja","") -> Es necesario completar el precio de esta partida, introduciendo un valor en la celda en naranja
B56: Partida alzada de abono íntegro. Incluye la generación de toda la documentación y registros derivados de la ejecución de los trabajos, incluyendo la gestión documental de los residuos generados, la documentación as built, la documentación de calidad y toda documentación adicional que recoja el estado final de la obra.
B58: Partida | F58: Precio Unitario | G58: Medición | H58: Importe | J58: =ROUND('Modelo de oferta económica'!F59,2) -> 0
B59: 002 | C59: PA | D59: Actividades previas | G59: 1 | H59: =ROUND('Modelo de oferta económica'!J58*G59,2) -> 0 | I59: =IF(ISBLANK('Modelo de oferta económica'!F59),"Es necesario completar el precio de esta partida, introduciendo un valor en la celda en naranja","") -> Es necesario completar el precio de esta partida, introduciendo un valor en la celda en naranja
B60: Partida alzada de abono íntegro. Incluye las tareas preparación de accesos, áreas de trabajo y zonas de acopio, la protección o el retranqueo de los servicios y líneas que se vean afectados por los trabajos, la protección de los piezómetros, la retirada del vallado de seguridad física en las zonas afectadas por las excavaciones y la reposición de los servicios afectados por los trabajos una vez finalizados estos, de acuerdo con lo indicado en las fichas de excavación del Anexo A.3 y el apartado de interferencias Anexo A.1.4 del proyecto de obra
B62: Partida | F62: Precio Unitario | G62: Medición | H62: Importe | J62: =ROUND('Modelo de oferta económica'!F63,2) -> 0
B63: 003 | C63: m2 | D63: Geotextil de protección para los acopios | G63: 250 | H63: =ROUND('Modelo de oferta económica'!J62*G63,2) -> 0 | I63: =IF(ISBLANK('Modelo de oferta económica'!F63),"Es necesario completar el precio de esta partida, introduciendo un valor en la celda en naranja","") -> Es necesario completar el precio de esta partida, introduciendo un valor en la celda en naranja
B64: Geotextil no tejido compuesto por fibras de polipropileno unidas por agujeteado, con una resistencia a la tracción longitudinal de 50,1 kN/m, una resistencia a la tracción transversal de 56,5 kN/m, una apertura de cono al ensayo de perforación dinámica según UNE-EN ISO 13433 inferior a 4,5 mm, resistencia CBR a punzonamiento 10 kN y una masa superficial de 800 g/m². Colocación en obra: con solapes y con piquetas de anclaje de acero, en forma de L, de 6 mm de diámetro (2 ud/m²), directamente sobre el terreno.
B66: Partida | F66: Precio Unitario | G66: Medición | H66: Importe | J66: =ROUND('Modelo de oferta económica'!F67,2) -> 0
B67: 004 | C67: UD | D67: Levantamiento topográfico | G67: 2 | H67: =ROUND('Modelo de oferta económica'!J66*G67,2) -> 0 | I67: =IF(ISBLANK('Modelo de oferta económica'!F67),"Es necesario completar el precio de esta partida, introduciendo un valor en la celda en naranja","") -> Es necesario completar el precio de esta partida, introduciendo un valor en la celda en naranja
B68: Levantamiento topográfico de la zona abarcada por los trabajos incluidos en este Proyecto. Incluye la entrega del levantamiento efectuado en formato electrónico (dwg y pdf) a ENRESA.
B70: Partida | F70: Precio Unitario | G70: Medición | H70: Importe | J70: =ROUND('Modelo de oferta económica'!F71,2) -> 0
B71: 005 | C71: m2 | D71: Talado de árboles y corte de vegetacion arborea | G71: 11181 | H71: =ROUND('Modelo de oferta económica'!J70*G71,2) -> 0 | I71: =IF(ISBLANK('Modelo de oferta económica'!F71),"Es necesario completar el precio de esta partida, introduciendo un valor en la celda en naranja","") -> Es necesario completar el precio de esta partida, introduciendo un valor en la celda en naranja
B72: Talado de árbol y corte de vegetación arbórea de hasta 5 m de altura, de 15 a 30 cm de diámetro de tronco y copa poco frondosa, con motosierra, retirando los tocones que impidan la entrada y/o movilidad de la maquinaria de excavación hasta un acopio temporal del material vegetal talado. Incluye los tiempos de espera para la realización por parte de ENRESA de las medidas radiológicas para la caracterización de los residuos generados. El precio no incluye la carga, el transporte y la gestión de los residuos
B74: CAPÍTULO 2 | D74: MOVIMIENTO DE TIERRAS | H74: =+H77+H81+H85+H89 -> 0 | I74: =COUNTIF(I77:I90,"Es necesario completar el precio de esta partida, introduciendo un valor en la celda en naranja") -> 4
B76: Partida | F76: Precio Unitario | G76: Medición | H76: Importe | J76: =ROUND(F77,2) -> 0
B77: 006 | C77: m2 | D77: Desbroce, retirada de capa vegetal y limpieza del terreno | G77: 11181 | H77: =ROUND(J76*G77,2) -> 0 | I77: =IF(ISBLANK('Modelo de oferta económica'!F77),"Es necesario completar el precio de esta partida, introduciendo un valor en la celda en naranja","") -> Es necesario completar el precio de esta partida, introduciendo un valor en la celda en naranja
B78: Desbroce, retirada de capa vegetal y limpieza del terreno de topografía accidentada, con medios mecánicos. Incluye la retirada de maleza y pequeñas plantas no incluidas en la partida de talado y retirada de vegetación arbórea. Hasta una profundidad no menor que el espesor de la capa de tierra vegetal, considerando como mínima 20 cm. Incluye los tiempos de espera para la realización por parte de ENRESA de las medidas radiológicas para la caracterización de los residuos generados. El precio no incluye el talado de árboles, la carga, el transporte y la gestión de los residuos
B80: Partida | F80: Precio Unitario | G80: Medición | H80: Importe | J80: =ROUND(F81,2) -> 0
B81: 007 | C81: m3 | D81: Excavación de tierras | G81: 7302.07 | H81: =ROUND(J80*G81,2) -> 0 | I81: =IF(ISBLANK('Modelo de oferta económica'!F81),"Es necesario completar el precio de esta partida, introduciendo un valor en la celda en naranja","") -> Es necesario completar el precio de esta partida, introduciendo un valor en la celda en naranja
B82: Excavación a cielo abierto, en suelo de consistencia semidura, con medios mecánicos, y carga a camión y/o acopio temporal. Incluye los tiempos de espera para la realización por parte de ENRESA de las medidas radiológicas para la caracterización de los residuos generados. El precio no incluye el desbroce superficial, el talado de árboles, la carga, el transporte y la gestión de los residuos
B84: Partida | F84: Precio Unitario | G84: Medición | H84: Importe | J84: =ROUND(F85,2) -> 0
B85: 008 | C85: m2 | D85: Regularizacion y Compactación de fondo de excavación | G85: 18573.25 | H85: =ROUND(J84*G85,2) -> 0 | I85: =IF(ISBLANK('Modelo de oferta económica'!F85),"Es necesario completar el precio de esta partida, introduciendo un valor en la celda en naranja","") -> Es necesario completar el precio de esta partida, introduciendo un valor en la celda en naranja
...
