Workbook
Name _Hlk113442285: Instrucciones!#REF!
Name _Hlk113442285: 'Modelo de oferta económica'!#REF!
Name _Hlk119490985: Instrucciones!#REF!
Name _Hlk119490985: 'Modelo de oferta económica'!#REF!
Name _Hlk119568242: Instrucciones!#REF!
Name _Hlk119568242: 'Modelo de oferta económica'!#REF!
Name _Hlk119914996: Instrucciones!#REF!
Name _Hlk119914996: 'Modelo de oferta económica'!#REF!
Name _Toc125653035: Instrucciones!#REF!
Name _Toc125653035: 'Modelo de oferta económica'!#REF!
Name _Toc125653036: Instrucciones!#REF!
Name _Toc125653036: 'Modelo de oferta económica'!#REF!
Name _Toc125653037: Instrucciones!#REF!
Name _Toc125653037: 'Modelo de oferta económica'!#REF!
Name _Toc125653038: Instrucciones!#REF!
Name _Toc125653038: 'Modelo de oferta económica'!#REF!
Name _Toc125653039: Instrucciones!#REF!
Name _Toc125653039: 'Modelo de oferta económica'!#REF!
Name _Toc125653040: Instrucciones!#REF!
Name _Toc125653040: 'Modelo de oferta económica'!#REF!
Name _Toc125653041: Instrucciones!#REF!
Name _Toc125653041: 'Modelo de oferta económica'!#REF!
Name _Toc125653042: Instrucciones!#REF!
Name _Toc125653042: 'Modelo de oferta económica'!#REF!
Name _Toc125653043: Instrucciones!#REF!
Name _Toc125653043: 'Modelo de oferta económica'!#REF!
Name _Toc125653044: Instrucciones!#REF!
Name _Toc125653044: 'Modelo de oferta económica'!#REF!
Name _Toc125653045: Instrucciones!#REF!
Name _Toc125653045: 'Modelo de oferta económica'!#REF!
Name _Toc125653046: Instrucciones!#REF!
Name _Toc125653046: 'Modelo de oferta económica'!#REF!
Name _Toc125653047: Instrucciones!#REF!
Name _Toc125653047: 'Modelo de oferta económica'!#REF!
Name _Toc125653048: Instrucciones!#REF!
Name _Toc125653048: 'Modelo de oferta económica'!#REF!
Name _Toc125653049: Instrucciones!#REF!
Name _Toc125653049: 'Modelo de oferta económica'!#REF!
Name _Toc125653050: Instrucciones!#REF!
Name _Toc125653050: 'Modelo de oferta económica'!#REF!
Name _Toc125653051: Instrucciones!#REF!
Name _Toc125653051: 'Modelo de oferta económica'!$B$17

Sheet Instrucciones
B6: Instrucciones para cumplimentar el archivo Excel de presentación de oferta económica
B8: -El archivo se compone de esta pestaña de instrucciones, y de la pestaña "Modelo de oferta económica" que contiene el resumen del importe total ofertado, el resumen por capítulo y el detalle de cada capítulo con los precios unitarios y las partidas alzadas.
B9: -El licitador rellenará en la pestaña "Modelo de oferta Económica" sus datos en los espacios punteados y la tabla correspondiente a la subcontratación prevista, en su caso, de tareas no críticas.
B10: -El licitador rellenará las celdas en naranja de la pestaña "Modelo de oferta Económica", que se corresponden con el importe ofertado de cada precio unitario y partida alzada de cada una de las partidas. El archivo calcula automaticamente el importe total.
B11: -La hoja deberá incluir en cada celda naranja un único importe y el archivo automaticamente redondeará a dos decimales.
B12: -El importe de cada precio unitario y partida alzada debe incluir la parte correspondiente de gastos generales y el beneficio industrial. Los importes NO deben incluir el IVA.
B13: -Se deberán cumplimentar todos los precios unitarios y las partidas alzadas de todos los capítulos. NO SON ADMISIBLES las ofertas que NO estén completas.
B14: -En cada capítulo el archivo trae de origen las mediciones de cada partida y calculará de forma automática los importes totales por partida, al introducir el licitador los importes de cada precio unitario y partida alzada.
B15: -El archivo calcula de forma automática el precio ofertado por el licitador, en base los importes introducidos, sumando a su vez las partidas de cada capítulo.
B16: -A modo de alerta, en la columna "E" de la pestaña "Modelo de oferta económica" aparecerá una leyenda en color rojo en las filas en las que exista algún error de cumplimentación, en los casos siguinetes:
B17: •Dentro de cada capítulo, cuando el archivo detecta la ausencia de algún importe de precio unitario o partida alzada, en la columna "E" se visualizará la leyenda "Es necesario completar el precio de esta partida, introduciendo un importe en la celda en naranja"
B18: •En el resumen general, cuando el archivo detecta la ausencia de algún importe de precio unitario o partida alzada, se podrá visualizar en la columna "E" la leyenda "En este capítulo hay alguna partida con precio unitario o partida alzada sin rellenar"
... B21: Una vez completado el archivo el licitador deberá convertir a formato PDF todas las hojas de la pestaña "Modelo de oferta económica", firmar electrónicamente el documento e incorporarlo al Archivo electrónico C de su proposición, junto con el archivo en formato Excel y el resto de documentos incluidos en el anexo al PCA. En caso de no coincidencia entre lo indicado en el archivo Excel y el archivo PDF, primará el documento PDF firmado electronicamente.

Sheet Modelo de oferta económica
B2: ANEXO 5
B4: MODELO DE OFERTA ECONÓMICA
B6: D/Dª……………………… con domicilio en.…………………., enterado de la convocatoria de procedimiento de licitación para la contratación del proyecto de obras de mantenimiento del Edificio de Protección de Intemperie de la instalación nuclear Vandellòs I, expediente nº CO-TA-26-009, y de las condiciones que regirán en el mismo y conforme con su contenido, se compromete en nombre …….. (propio o de la empresa)………, con N.I.F…….., según poder……. (se hará constar apoderamiento) a la ejecución del contrato con sujeción a las condiciones y requisitos exigidos y con las condiciones técnicas indicadas en la oferta presentada, por el importe siguiente:
B15: PROYECTO DE OBRAS OBRAS DE MANTENIMIENTO DEL EDIFICIO DE PROTECCIÓN DE INTEMPERIE DE LA INSTALACIÓN NUCLEAR VANDELLÒS I | F15: Precio Máximo de Licitación IVA EXCLUIDO
B17: TOTAL PROYECTO | E17: Importe (€)
B18: =+_xlfn.CONCAT(B57," - ",D57) -> CAPÍTULO 1 - MANTENIMIENTO PINTURA ZONA 2 | E18: =IF(I18="En este capítulo hay alguna partida con precio unitario o partida alzada sin rellenar","Sin importe por errores",+'Modelo de oferta económica'!H57) -> Sin importe por errores | I18: =IF('Modelo de oferta económica'!I57=0,"","En este capítulo hay alguna partida con precio unitario o partida alzada sin rellenar") -> En este capítulo hay alguna partida con precio unitario o partida alzada sin rellenar
B19: =+_xlfn.CONCAT(B71," - ",D71) -> CAPÍTULO 2 - MANTENIMIENTO PINTURA ZONA 4 | E19: =IF(I19="En este capítulo hay alguna partida con precio unitario o partida alzada sin rellenar","Sin importe por errores",+'Modelo de oferta económica'!H71) -> Sin importe por errores | I19: =IF('Modelo de oferta económica'!I71=0,"","En este capítulo hay alguna partida con precio unitario o partida alzada sin rellenar") -> En este capítulo hay alguna partida con precio unitario o partida alzada sin rellenar
B20: =+_xlfn.CONCAT(B85," - ",D85) -> CAPÍTULO 3 - MANTENIMIENTO PINTURA ZONA 5 | E20: =IF(I20="En este capítulo hay alguna partida con precio unitario o partida alzada sin rellenar","Sin importe por errores",+'Modelo de oferta económica'!H85) -> Sin importe por errores | I20: =IF('Modelo de oferta económica'!I85=0,"","En este capítulo hay alguna partida con precio unitario o partida alzada sin rellenar") -> En este capítulo hay alguna partida con precio unitario o partida alzada sin rellenar
B21: =+_xlfn.CONCAT(B103," - ",D103) -> CAPÍTULO 4 - MANTENIMIENTO PINTURA ZONA 6 | E21: =IF(I21="En este capítulo hay alguna partida con precio unitario o partida alzada sin rellenar","Sin importe por errores",+'Modelo de oferta económica'!H103) -> Sin importe por errores | I21: =IF('Modelo de oferta económica'!I103=0,"","En este capítulo hay alguna partida con precio unitario o partida alzada sin rellenar") -> En este capítulo hay alguna partida con precio unitario o partida alzada sin rellenar
B22: =+_xlfn.CONCAT(B121," - ",D121) -> CAPÍTULO 5 - MEDIOS AUXILIARES Y ALQUILERES | E22: =IF(I22="En este capítulo hay alguna partida con precio unitario o partida alzada sin rellenar","Sin importe por errores",+'Modelo de oferta económica'!H121) -> Sin importe por errores | I22: =IF('Modelo de oferta económica'!I121=0,"","En este capítulo hay alguna partida con precio unitario o partida alzada sin rellenar") -> En este capítulo hay alguna partida con precio unitario o partida alzada sin rellenar
B23: =+_xlfn.CONCAT(B159," - ",D159) -> CAPÍTULO 6 - SUSTITUCIÓN DE LAS PLACAS TRANSLÚCIDAS | E23: =IF(I23="En este capítulo hay alguna partida con precio unitario o partida alzada sin rellenar","Sin importe por errores",+'Modelo de oferta económica'!H159) -> Sin importe por errores | I23: =IF('Modelo de oferta económica'!I160=0,"","En este capítulo hay alguna partida con precio unitario o partida alzada sin rellenar") -> En este capítulo hay alguna partida con precio unitario o partida alzada sin rellenar
B24: =+_xlfn.CONCAT(B169," - ",D169) -> CAPÍTULO 7 - ALUMBRADO | E24: =IF(I24="En este capítulo hay alguna partida con precio unitario o partida alzada sin rellenar","Sin importe por errores",+'Modelo de oferta económica'!H169) -> Sin importe por errores | I24: =IF('Modelo de oferta económica'!I169=0,"","En este capítulo hay alguna partida con precio unitario o partida alzada sin rellenar") -> En este capítulo hay alguna partida con precio unitario o partida alzada sin rellenar
B25: =+_xlfn.CONCAT(B231," - ",D231) -> CAPÍTULO 8 - SEGURIDAD Y SALUD | E25: =IF(I25="En este capítulo hay alguna partida con precio unitario o partida alzada sin rellenar","Sin importe por errores",+'Modelo de oferta económica'!H231) -> Sin importe por errores | I25: =IF('Modelo de oferta económica'!I231=0,"","En este capítulo hay alguna partida con precio unitario o partida alzada sin rellenar") -> En este capítulo hay alguna partida con precio unitario o partida alzada sin rellenar
B26: =+_xlfn.CONCAT(B237," - ",D237) -> CAPÍTULO 9 - GESTIÓN DE RESIDUOS | E26: =IF(I26="En este capítulo hay alguna partida con precio unitario o partida alzada sin rellenar","Sin importe por errores",+'Modelo de oferta económica'!H237) -> Sin importe por errores | I26: =IF('Modelo de oferta económica'!I237=0,"","En este capítulo hay alguna partida con precio unitario o partida alzada sin rellenar") -> En este capítulo hay alguna partida con precio unitario o partida alzada sin rellenar
B27: =+_xlfn.CONCAT(B243," - ",D243) -> CAPÍTULO 10 - CALIDAD | E27: =IF(I27="En este capítulo hay alguna partida con precio unitario o partida alzada sin rellenar","Sin importe por errores",+'Modelo de oferta económica'!H243) -> Sin importe por errores | I27: =IF('Modelo de oferta económica'!I243=0,"","En este capítulo hay alguna partida con precio unitario o partida alzada sin rellenar") -> En este capítulo hay alguna partida con precio unitario o partida alzada sin rellenar
B28: TOTAL, PRECIO OFERTADO (IVA Excluido) | E28: =SUM(E18:E27) -> 0 | F28: 541934.91 | I28: =IF(E28>F28,"El precio ofertado supera el Precio Máximo de Licitación, oferta NO ADMISIBLE","")
B30: ¿Tiene previsto subcontratar? | F30: SÍ* | G30: NO
B32: *En caso afirmativo, indicar el importe y alcance de la/s partida/s subcontratada/s, así como la denominación social o perfil empresarial de la/s empresa/s subcontratista/s:
B33: Actuación/Actividad a subcontratar | E33: Importe a subcontratar | F33: Empresa subcontratista
B48: Y para que conste, firmo la presente declaración en …................….......... a…..de…………...... 2026.
B57: CAPÍTULO 1 | D57: MANTENIMIENTO PINTURA ZONA 2 | H57: =SUM(H60,H64,H68) -> 0 | I57: =COUNTIF(I60:I69,"Es necesario completar el precio de esta partida, introduciendo un valor en la celda en naranja") -> 3
B59: Partida | F59: Precio | G59: Medición | H59: Importe | J59: =ROUND('Modelo de oferta económica'!F60,2) -> 0
B60: 1.1 | C60: m² | D60: Limpieza manual superficie perfiles. | G60: 665.39 | H60: =ROUND('Modelo de oferta económica'!J59*G60,2) -> 0 | I60: =IF(ISBLANK('Modelo de oferta económica'!F60),"Es necesario completar el precio de esta partida, introduciendo un valor en la celda en naranja","") -> Es necesario completar el precio de esta partida, introduciendo un valor en la celda en naranja
B61: Limpieza manual de superficie de perfil laminado de acero al carbono con presencia de suciedad, grasas o polvo mediante la aplicación de detergente alcalino, con un rendimiento de 0,2 l/m² y aclarado posterior de la superficie con abundante agua limpia hasta eliminar los residuos del producto aplicado. Incluye: Protección de los elementos del entorno que puedan verse afectados durante los trabajos. Ejecución de las operaciones de limpieza. Recogida y eliminación del agua de limpieza. Retirada y acopio de los restos generados. Carga de los restos generados sobre camión o contenedor. Se medirá la superficie realmente ejecutada.
B63: Partida | F63: Precio Unitario | G63: Medición | H63: Importe | J63: =ROUND('Modelo de oferta económica'!F64,2) -> 0
B64: 1.2 | C64: m² | D64: Preparación de superficie de acero estructural mediante medios manuales o mecánicos. | G64: 42.92 | H64: =ROUND('Modelo de oferta económica'!J63*G64,2) -> 0 | I64: =IF(ISBLANK('Modelo de oferta económica'!F64),"Es necesario completar el precio de esta partida, introduciendo un valor en la celda en naranja","") -> Es necesario completar el precio de esta partida, introduciendo un valor en la celda en naranja
B65: Preparación de superficie de acero estructural, para la posterior aplicación de sistema de pinturas, mediante medios manuales o mecánicos, hasta conseguir un acabado P St2 según UNE EN ISO 8501-2, y carga manual de los restos generados sobre camión o contenedor. Incluye: Marcado de la zona a sanear. Cepillado manual con cepillo de púas de acero. Limpieza de la superficie soporte. Retirada y acopio de los restos generados. Carga manual de los restos generados sobre camión o contenedor. Se medirá la superficie realmente ejecutada.
B67: Partida | F67: Precio Unitario | G67: Medición | H67: Importe | J67: =ROUND('Modelo de oferta económica'!F68,2) -> 0
B68: 1.3 | C68: m² | D68: Esmalte sobre estructura de acero. C3.06. | G68: 665.39 | H68: =ROUND('Modelo de oferta económica'!J67*G68,2) -> 0 | I68: =IF(ISBLANK('Modelo de oferta económica'!F68),"Es necesario completar el precio de esta partida, introduciendo un valor en la celda en naranja","") -> Es necesario completar el precio de esta partida, introduciendo un valor en la celda en naranja
B69: Aplicación manual/pistola de una capa de imprimación a base de resina epoxi y una capa de esmalte de poliuretano sobre estructura metálica de perfiles laminados de acero. Aplicación de una capa de imprimación, con un espesor nominal de película seco 120 μm (rendimiento: 0,25 l/m²). Aplicación de una mano de esmalte de poliuretano, color verde RAL 6002 para las bajantes y azul RAL 5019 para el resto de las estructuras, (rendimiento: 0,13 l/m² cada mano), con un espesor nominal de película seco de 60 μm; formada por piezas simples de perfiles laminados de acero. Incluye medios auxiliares y costes indirecto. Se ejecutará la unidad de obra de acuerdo con las recomendaciones del fabricante, entregando la ficha técnica a la dirección de obra. Se medirá la superficie realmente ejecutada según especificaciones de Proyecto.
B71: CAPÍTULO 2 | D71: MANTENIMIENTO PINTURA ZONA 4 | H71: =+H74+H78+H82 -> 0 | I71: =COUNTIF(I74:I80,"Es necesario completar el precio de esta partida, introduciendo un valor en la celda en naranja") -> 2
B73: Partida | F73: Precio Unitario | G73: Medición | H73: Importe | J73: =ROUND(F74,2) -> 0
B74: 2.1 | C74: m² | D74: Limpieza manual superficie perfiles. | G74: 88.64 | H74: =ROUND(J73*G74,2) -> 0 | I74: =IF(ISBLANK('Modelo de oferta económica'!F74),"Es necesario completar el precio de esta partida, introduciendo un valor en la celda en naranja","") -> Es necesario completar el precio de esta partida, introduciendo un valor en la celda en naranja
B75: Limpieza manual de superficie de perfil laminado de acero al carbono con presencia de suciedad, grasas o polvo mediante la aplicación de detergente alcalino, con un rendimiento de 0,2 l/m² y aclarado posterior de la superficie con abundante agua limpia hasta eliminar los residuos del producto aplicado. Incluye: Protección de los elementos del entorno que puedan verse afectados durante los trabajos. Ejecución de las operaciones de limpieza. Recogida y eliminación del agua de limpieza. Retirada y acopio de los restos generados. Carga de los restos generados sobre camión o contenedor. Se medirá la superficie realmente ejecutada.
B77: Partida | F77: Precio Unitario | G77: Medición | H77: Importe | J77: =ROUND(F78,2) -> 0
B78: 2.2 | C78: m² | D78: Preparación de superficie de acero estructural mediante medios manuales o mecánicos. | G78: 35.46 | H78: =ROUND(J77*G78,2) -> 0 | I78: =IF(ISBLANK('Modelo de oferta económica'!F78),"Es necesario completar el precio de esta partida, introduciendo un valor en la celda en naranja","") -> Es necesario completar el precio de esta partida, introduciendo un valor en la celda en naranja
B79: Preparación de superficie de acero estructural, para la posterior aplicación de sistema de pinturas, mediante medios manuales o mecánicos, hasta conseguir un acabado P St2 según UNE EN ISO 8501-2, y carga manual de los restos generados sobre camión o contenedor. Incluye: Marcado de la zona a sanear. Cepillado manual con cepillo de púas de acero. Limpieza de la superficie soporte. Retirada y acopio de los restos generados. Carga manual de los restos generados sobre camión o contenedor. Se medirá la superficie realmente ejecutada.
B81: Partida | F81: Precio Unitario | G81: Medición | H81: Importe | J81: =ROUND(F82,2) -> 0
B82: 2.3 | C82: m² | D82: Esmalte sobre estructura de acero. C3.06. | G82: 88.64 | H82: =ROUND(J81*G82,2) -> 0 | I82: =IF(ISBLANK('Modelo de oferta económica'!F82),"Es necesario completar el precio de esta partida, introduciendo un valor en la celda en naranja","") -> Es necesario completar el precio de esta partida, introduciendo un valor en la celda en naranja
B83: Aplicación manual/pistola de una capa de imprimación a base de resina epoxi y una capa de esmalte de poliuretano sobre estructura metálica de perfiles laminados de acero. Aplicación de una capa de imprimación, con un espesor nominal de película seco 120 μm (rendimiento: 0,25 l/m²). Aplicación de una mano de esmalte de poliuretano, color verde RAL 6002 para las bajantes y azul RAL 5019 para el resto de las estructuras, (rendimiento: 0,13 l/m² cada mano), con un espesor nominal de película seco de 60 μm; formada por piezas simples de perfiles laminados de acero. Incluye medios auxiliares y costes indirecto. Se ejecutará la unidad de obra de acuerdo con las recomendaciones del fabricante, entregando la ficha técnica a la dirección de obra. Se medirá la superficie realmente ejecutada según especificaciones de Proyecto.
...
